BEGIN:VCALENDAR
VERSION:2.0
PRODID:-//Tukios.com/
BEGIN:VEVENT
UID:555dec44-3ebf-4f67-8a05-b11dcd9d1616@www.falardeaufh.com
DTSTAMP:20260424T200340Z
DTSTART:20260509T140000Z
DTEND:20260509T150000Z
SUMMARY:Funeral Service
DESCRIPTION:
URL:https://www.falardeaufh.com/obituaries/sylvia-disotell
LOCATION:St. Augustine's Church 7333 Obrien Road  Baldwinsville NY 13027
GEO:43.1248991;-76.3011277
END:VEVENT
END:VCALENDAR