BEGIN:VCALENDAR
VERSION:2.0
PRODID:-//Tukios.com/
BEGIN:VEVENT
UID:c7f0e55e-ba4a-4025-8986-58ccb900d66a@www.falardeaufh.com
DTSTAMP:20260424T200432Z
DTSTART:20260508T210000Z
DTEND:20260508T230000Z
SUMMARY:Visitation
DESCRIPTION:
URL:https://www.falardeaufh.com/obituaries/sylvia-disotell
LOCATION:Falardeau Funeral Home 93 Downer St  Baldwinsville NY 13027
GEO:43.1516791;-76.3397591
END:VEVENT
END:VCALENDAR