BEGIN:VCALENDAR
VERSION:2.0
PRODID:-//Tukios.com/
BEGIN:VEVENT
UID:963f27ce-d169-4359-a6a1-b6b498a10236@www.falardeaufh.com
DTSTAMP:20260421T011920Z
DTSTART:20260503T170000Z
DTEND:20260503T190000Z
SUMMARY:Public Visitation
DESCRIPTION:
URL:https://www.falardeaufh.com/obituaries/laura-kurtz
LOCATION:Falardeau Funeral Home 93 Downer Street  Baldwinsville NY 13027
GEO:43.1517153;-76.3403161
END:VEVENT
END:VCALENDAR