BEGIN:VCALENDAR
VERSION:2.0
PRODID:-//Tukios.com/
BEGIN:VEVENT
UID:18eb364c-5390-4aca-b140-e92dbcfdd714@www.falardeaufh.com
DTSTAMP:20260419T230543Z
DTSTART:20260424T220000Z
DTEND:20260424T230000Z
SUMMARY:Public Visitation
DESCRIPTION:
URL:https://www.falardeaufh.com/obituaries/kim-stevens
LOCATION:Falardeau Funeral Home 93 Downer Street  Baldwinsville NY 13027
GEO:43.1517153;-76.3403161
END:VEVENT
END:VCALENDAR